Workbook

Sheet L.1 Project Details
A2: Annex L: Report on the Hydrogen Energy Industry Activity
A3: L.1 Project Details
C4: (as amended by DC2026-07-0016)
C6: Company Logo/Header
C8: Name of the Hydrogen Energy Project:
C11: Hydrogen Energy Industry Activity, please check all that applies:
D12: Production | F12: Importation
D13: Storage | F13: Exportation
D14: Transmission | F14: Utilization
D15: Transportation | F15: Others: _____________________
D16: Distribution
C19: Address:
C22: Brief Description of the Project:
C25: Period Covered:
C27: Insert pictures here with brief description of each picture. Minimum of four (4) pictures. (Note: Pictures submitted will become property of the DOE.)
C30: Submitted by: | G30: Date:
C33: Signature over Printed Name
C34: (Position)
C35: Authorized Representative
C40: DC on Providing a National Policy and General Framework, Roadmap, and Guidelines for Hydrogen in the Energy Sector | H40: Annex L: Report on the Hydrogen Energy Industry Activity
H41: Page 1 of 3

Sheet L.2 Facility Details
B2: Annex L: Report on the Hydrogen Energy Industry Activity
B3: L.2 Facility Details
B4: (as amended by DC2026-07-0016)
B6: Company Logo/Header
B8: Name of the Hydrogen Energy Project:
B9: =IF('L.1 Project Details'!C9=0,"",'L.1 Project Details'!C9)
B11: Business Address:
B12: =IF('L.1 Project Details'!C20=0,"",'L.1 Project Details'!C20)
B14: Period Covered: | E14: =IF('L.1 Project Details'!E25=0,"",'L.1 Project Details'!E25)
B16: Facility Details
B17: Date Started:
B18: %Completion:
B19: Date of Completion:
B21: List of Equipment, add rows as may be necessary:
C22: 1 | D22: .
C23: 2 | D23: .
C24: 3 | D24: .
C25: 4 | D25: .
C26: 5 | D26: .
C27: 6 | D27: .
C28: 7 | D28: .
C29: 8 | D29: .
C30: 9 | D30: .
C31: 10 | D31: .
C32: 11 | D32: .
C33: 12 | D33: .
... C41: 20 | D41: .
B53: DC on Providing a National Policy and General Framework, Roadmap, and Guidelines for Hydrogen in the Energy Sector | G53: Annex L: Report on the Hydrogen Energy Industry Activity
G54: Page 2 of 3

Sheet L.3 Production and Utilization
C2: Annex L: Report on the Hydrogen Energy Industry Activity
C3: L.3 Production, Storage, Transmission, Distribution, and Utilization
L4: (as amended by DC2026-07-0016)
B6: Company Logo/Header
C9: Name of the Hydrogen Energy Project:
C11: Business Address: | D11: =IF('L.1 Project Details'!C20=0,"",'L.1 Project Details'!C20)
C13: Period Covered: | D13: ='L.2 Facility Details'!E14
C15: Production, Storage, Transmission, and Distribution:
C16: Please fill out as applicable.
C17: Rated Capacity, in MT, MWh, or MW:
C19: Transmission Pipeline, in km:
C21: Fleet Type: | D21: Number: | F21: Overall Capacity:
C22: Hauler Trucks
C23: Maritime Distribution
D25: Total Capacity: | F25: =IF(SUM(F22:F23)=0,"",SUM(F22:F23))
C27: Energy Source Details: | F27: Consumption (MWh, L, or MT, as applicable)
F28: Month 1 | K28: Month 2 | P28: Month 3 | U28: Month 4 | Z28: Month 5 | AE28: Month 6
C29: Renewable Energy (RE) | D29: Type:
C30: Fossil Fuel (FF) | D30: Type:
C31: Nuclear Energy (NE)
C32: Grid Electricity (GE)
C33: Others, please specify
C35: Hydrogen and Hydrogen Derivatives Supply and Demand:
C36: This table shall be accomplished per type of hydrogen or hydrogen derivative.
C37: Units shall be in metric ton (MT), unless otherwise specified.
C38: Product Type: | F38: Month 1 | K38: Month 2 | P38: Month 3 | U38: Month 4 | Z38: Month 5 | AE38: Month 6
C39: Energy Source Total = RE+FF+NE+GE | F39: RE | G39: FF | H39: NE | I39: GE | J39: Total | K39: RE | L39: FF | M39: NE | N39: GE | O39: Total | P39: RE | Q39: FF | R39: NE | S39: GE | T39: Total | U39: RE | V39: FF | W39: NE | X39: GE | Y39: Total | Z39: RE | AA39: FF | AB39: NE | AC39: GE | AD39: Total | AE39: RE | AF39: FF | AG39: NE | AH39: GE | AI39: Total
C40: (a) Beginning Inventory | J40: =SUM(F40:I40) -> 0 | O40: =SUM(K40:N40) -> 0 | T40: =SUM(P40:S40) -> 0 | Y40: =SUM(U40:X40) -> 0 | AD40: =SUM(Z40:AC40) -> 0 | AI40: =SUM(AE40:AH40) -> 0
C41: (b) Total Produced | J41: =SUM(F41:I41) -> 0 | O41: =SUM(K41:N41) -> 0 | T41: =SUM(P41:S41) -> 0 | Y41: =SUM(U41:X41) -> 0 | AD41: =SUM(Z41:AC41) -> 0 | AI41: =SUM(AE41:AH41) -> 0
C42: (c) Local Purchase | J42: =SUM(F42:I42) -> 0 | O42: =SUM(K42:N42) -> 0 | T42: =SUM(P42:S42) -> 0 | Y42: =SUM(U42:X42) -> 0 | AD42: =SUM(Z42:AC42) -> 0 | AI42: =SUM(AE42:AH42) -> 0
C43: (d) Imported | J43: =SUM(F43:I43) -> 0 | O43: =SUM(K43:N43) -> 0 | T43: =SUM(P43:S43) -> 0 | Y43: =SUM(U43:X43) -> 0 | AD43: =SUM(Z43:AC43) -> 0 | AI43: =SUM(AE43:AH43) -> 0
C44: (e) Total Available Supply (e = a+b+c+d) | F44: =SUM(F40:F43) -> 0 | G44: =SUM(G40:G43) -> 0 | H44: =SUM(H40:H43) -> 0 | I44: =SUM(I40:I43) -> 0 | J44: =SUM(F44:I44) -> 0 | K44: =SUM(K40:K43) -> 0 | L44: =SUM(L40:L43) -> 0 | M44: =SUM(M40:M43) -> 0 | N44: =SUM(N40:N43) -> 0 | O44: =SUM(K44:N44) -> 0 | P44: =SUM(P40:P43) -> 0 | Q44: =SUM(Q40:Q43) -> 0 | R44: =SUM(R40:R43) -> 0 | S44: =SUM(S40:S43) -> 0 | T44: =SUM(P44:S44) -> 0 | U44: =SUM(U40:U43) -> 0 | V44: =SUM(V40:V43) -> 0 | W44: =SUM(W40:W43) -> 0 | X44: =SUM(X40:X43) -> 0 | Y44: =SUM(U44:X44) -> 0 | Z44: =SUM(Z40:Z43) -> 0 | AA44: =SUM(AA40:AA43) -> 0 | AB44: =SUM(AB40:AB43) -> 0 | AC44: =SUM(AC40:AC43) -> 0 | AD44: =SUM(Z44:AC44) -> 0 | AE44: =SUM(AE40:AE43) -> 0 | AF44: =SUM(AF40:AF43) -> 0 | AG44: =SUM(AG40:AG43) -> 0 | AH44: =SUM(AH40:AH43) -> 0 | AI44: =SUM(AE44:AH44) -> 0
C45: (f) Used | J45: =SUM(F45:I45) -> 0 | O45: =SUM(K45:N45) -> 0 | T45: =SUM(P45:S45) -> 0 | Y45: =SUM(U45:X45) -> 0 | AD45: =SUM(Z45:AC45) -> 0 | AI45: =SUM(AE45:AH45) -> 0
C46: (g) Sold Locally | J46: =SUM(F46:I46) -> 0 | O46: =SUM(K46:N46) -> 0 | T46: =SUM(P46:S46) -> 0 | Y46: =SUM(U46:X46) -> 0 | AD46: =SUM(Z46:AC46) -> 0 | AI46: =SUM(AE46:AH46) -> 0
C47: (h) Exported | J47: =SUM(F47:I47) -> 0 | O47: =SUM(K47:N47) -> 0 | T47: =SUM(P47:S47) -> 0 | Y47: =SUM(U47:X47) -> 0 | AD47: =SUM(Z47:AC47) -> 0 | AI47: =SUM(AE47:AH47) -> 0
C48: (i) Total Utilized (i = f+g+h) | F48: =SUM(F45:F47) -> 0 | G48: =SUM(G45:G47) -> 0 | H48: =SUM(H45:H47) -> 0 | I48: =SUM(I45:I47) -> 0 | J48: =SUM(F48:I48) -> 0 | K48: =SUM(K45:K47) -> 0 | L48: =SUM(L45:L47) -> 0 | M48: =SUM(M45:M47) -> 0 | N48: =SUM(N45:N47) -> 0 | O48: =SUM(K48:N48) -> 0 | P48: =SUM(P45:P47) -> 0 | Q48: =SUM(Q45:Q47) -> 0 | R48: =SUM(R45:R47) -> 0 | S48: =SUM(S45:S47) -> 0 | T48: =SUM(P48:S48) -> 0 | U48: =SUM(U45:U47) -> 0 | V48: =SUM(V45:V47) -> 0 | W48: =SUM(W45:W47) -> 0 | X48: =SUM(X45:X47) -> 0 | Y48: =SUM(U48:X48) -> 0 | Z48: =SUM(Z45:Z47) -> 0 | AA48: =SUM(AA45:AA47) -> 0 | AB48: =SUM(AB45:AB47) -> 0 | AC48: =SUM(AC45:AC47) -> 0 | AD48: =SUM(Z48:AC48) -> 0 | AE48: =SUM(AE45:AE47) -> 0 | AF48: =SUM(AF45:AF47) -> 0 | AG48: =SUM(AG45:AG47) -> 0 | AH48: =SUM(AH45:AH47) -> 0 | AI48: =SUM(AE48:AH48) -> 0
C49: (j) Ending Inventory (j = e-i) | F49: =F44-F48 -> 0 | G49: =G44-G48 -> 0 | H49: =H44-H48 -> 0 | I49: =I44-I48 -> 0 | J49: =SUM(F49:I49) -> 0 | K49: =K44-K48 -> 0 | L49: =L44-L48 -> 0 | M49: =M44-M48 -> 0 | N49: =N44-N48 -> 0 | O49: =SUM(K49:N49) -> 0 | P49: =P44-P48 -> 0 | Q49: =Q44-Q48 -> 0 | R49: =R44-R48 -> 0 | S49: =S44-S48 -> 0 | T49: =SUM(P49:S49) -> 0 | U49: =U44-U48 -> 0 | V49: =V44-V48 -> 0 | W49: =W44-W48 -> 0 | X49: =X44-X48 -> 0 | Y49: =SUM(U49:X49) -> 0 | Z49: =Z44-Z48 -> 0 | AA49: =AA44-AA48 -> 0 | AB49: =AB44-AB48 -> 0 | AC49: =AC44-AC48 -> 0 | AD49: =SUM(Z49:AC49) -> 0 | AE49: =AE44-AE48 -> 0 | AF49: =AF44-AF48 -> 0 | AG49: =AG44-AG48 -> 0 | AH49: =AH44-AH48 -> 0 | AI49: =SUM(AE49:AH49) -> 0
C50: Actual Energy Produced from Total Utilized, MJ: | J50: =SUM(F50:I50) -> 0 | O50: =SUM(K50:N50) -> 0 | T50: =SUM(P50:S50) -> 0 | Y50: =SUM(U50:X50) -> 0 | AD50: =SUM(Z50:AC50) -> 0 | AI50: =SUM(AE50:AH50) -> 0
C53: DC on Providing a National Policy and General Framework, Roadmap, and Guidelines for Hydrogen in the Energy Sector | Z53: Annex L: Report on the Hydrogen Energy Industry Activity
AG54: Page 3 of 3

Sheet J.4 R&D Activities
B2: DC Hydrogen Energy Guidelines
B3: Annex J: Report on the Hydrogen Energy Industry Activity
B4: J.4 Research and Development
B6: Name of the Hydrogen Energy Industry Activity:
B7: =IF('L.1 Project Details'!C9=0,"",'L.1 Project Details'!C9)
B9: Address:
B10: =IF('L.1 Project Details'!C20=0,"",'L.1 Project Details'!C20)
B12: Period Covered: | E12: =IF('L.1 Project Details'!E25=0,"",'L.1 Project Details'!E25)
B14: Progress Report
B15: Please provide progress status of the activity.
